BEGIN:VCALENDAR
VERSION:2.0
PRODID:-//jEvents 2.0 for Joomla//EN
CALSCALE:GREGORIAN
METHOD:PUBLISH
BEGIN:VEVENT
UID:49d12fff2fac2e8dcfa611071be07ab3
CATEGORIES:Karate
CREATED:20210513T150134
SUMMARY:Nábor karate
LOCATION:KS centrum  Děčín - Staré Město (bývalý Chlum)
DESCRIPTION;ENCODING=QUOTED-PRINTABLE:Otevíráme náborové skupiny pro děti a mládež již od čtyř let až po dospělé.
 Přijďte v květnu a červnu zdarma vyzkoušet naše tréninky.Rodiče mohou cviči
 t se svými dětmi. Vraťte svému tělu pohyblivost a sílu.Tým Karatedó Steklý
CONTACT: 603 523 770
X-EXTRAINFO:Náborové lekce jsou zdarma..
DTSTAMP:20260425T201451Z
DTSTART:20210607T143000Z
SEQUENCE:0
TRANSP:OPAQUE
END:VEVENT
END:VCALENDAR