BEGIN:VCALENDAR
VERSION:2.0
PRODID:-//jEvents 2.0 for Joomla//EN
CALSCALE:GREGORIAN
METHOD:PUBLISH
BEGIN:VEVENT
UID:1f9a2953efdfbaebe743f2525a43eb05
CATEGORIES:Karate
CREATED:20210513T133954
SUMMARY:Nábor karate
LOCATION:KS centrum  Děčín - Staré Město (bývalý Chlum)
DESCRIPTION;ENCODING=QUOTED-PRINTABLE:NÁBOR KARATE\n\nOtevíráme náborové skupiny pro děti a mládež již od čtyř le
 t až po dospělé.Přijďte v květnu a červnu zdarma vyzkoušet naše tréninky - 
 pondělí, středa a pátek.Kontaktujte nás na tel. 603523770Rodiče mohou cviči
 t se svými dětmi. Vraťte svému tělu pohyblivost a sílu.Tým Karatedó Steklý
CONTACT:603 523 770
DTSTAMP:20260425T230922Z
DTSTART:20210712T143000Z
DTEND:20210712T180000Z
SEQUENCE:0
TRANSP:OPAQUE
END:VEVENT
END:VCALENDAR