BEGIN:VCALENDAR
VERSION:2.0
PRODID:-//jEvents 2.0 for Joomla//EN
CALSCALE:GREGORIAN
METHOD:PUBLISH
BEGIN:VEVENT
UID:93318780bb1600469242e16a8e985ebc
CATEGORIES:Fotbal
CREATED:20210509T113837
SUMMARY:NÁBOR NOVÝCH FOTBALISTŮ
LOCATION:fotbalové hřiště, areál SK Březiny
DESCRIPTION;ENCODING=QUOTED-PRINTABLE:\n\nNÁBOR nových fotbalistů pro fotbalový klub SK BŘEZINY\n\n\n\n\n\nkatego
 rie STARŠÍ PŘÍPRAVKA (ročník 2011-2012)\n\n\n\n\n\nkaždou středu 16,30 - 17
 ,30\n\n\n\n\n\ns sebou sportovní oblečení a obuv a vlastní láhev s pitím\n
CONTACT:Tato e-mailová adresa je chráněna před spamboty. Pro její zobrazení musíte mít povolen Javascript.
				document.getElementById('cloak0a40e13d2333e293ba09a98be2ac1f82').innerHTML = '';
				var prefix = '&#109;a' + 'i&#108;' + '&#116;o';
				var path = 'hr' + 'ef' + '=';
				var addy0a40e13d2333e293ba09a98be2ac1f82 = 'f&#111;tb&#97;lbr&#101;z&#105;ny' + '&#64;';
				addy0a40e13d2333e293ba09a98be2ac1f82 = addy0a40e13d2333e293ba09a98be2ac1f82 + 's&#101;zn&#97;m' + '&#46;' + 'cz';
				var addy_text0a40e13d2333e293ba09a98be2ac1f82 = 'f&#111;tb&#97;lbr&#101;z&#105;ny' + '&#64;' + 's&#101;zn&#97;m' + '&#46;' + 'cz';document.getElementById('cloak0a40e13d2333e293ba09a98be2ac1f82').innerHTML += ''+addy_text0a40e13d2333e293ba09a98be2ac1f82+'';
		, 724 925 406
DTSTAMP:20260425T184056Z
DTSTART:20210512T140000Z
DTEND:20210512T160000Z
SEQUENCE:0
TRANSP:OPAQUE
END:VEVENT
END:VCALENDAR