BEGIN:VCALENDAR
VERSION:2.0
PRODID:-//jEvents 2.0 for Joomla//EN
CALSCALE:GREGORIAN
METHOD:PUBLISH
BEGIN:VEVENT
UID:a43657fab125cc2718b849e5784672ca
CATEGORIES:Fotbal
CREATED:20210509T113114
SUMMARY:NÁBOR NOVÝCH FOTBALISTŮ
LOCATION:fotbalové hřiště, areál SK Březiny
DESCRIPTION;ENCODING=QUOTED-PRINTABLE:<p><span style="font-size: 14pt;">NÁBOR nových fotbalistů pro fotbalový klu
 b SK BŘEZINY</span></p><p><span style="font-size: 14pt;"> </span></p><p><sp
 an style="font-size: 14pt;">kategorie MLADŠÍ PŘÍPRAVKA (ročníky 2013-2014)<
 /span></p><p><span style="font-size: 14pt;"></span></p><p><span style="font
 -size: 14pt;">každé úterý 16,30- 17,30</span></p><p><span style="font-size:
  14pt;"></span></p><p><span style="font-size: 14pt;">s sebou sportovní oble
 čení a obuv a vlastní láhev s pitím</span></p>
CONTACT:Tato e-mailová adresa je chráněna před spamboty. Pro její zobrazení musíte mít povolen Javascript.
				document.getElementById('cloak7c018181bbc0dc658faf5e1af19a9ef8').innerHTML = '';
				var prefix = '&#109;a' + 'i&#108;' + '&#116;o';
				var path = 'hr' + 'ef' + '=';
				var addy7c018181bbc0dc658faf5e1af19a9ef8 = 'f&#111;tb&#97;lbr&#101;z&#105;ny' + '&#64;';
				addy7c018181bbc0dc658faf5e1af19a9ef8 = addy7c018181bbc0dc658faf5e1af19a9ef8 + 's&#101;zn&#97;m' + '&#46;' + 'cz';
				var addy_text7c018181bbc0dc658faf5e1af19a9ef8 = 'f&#111;tb&#97;lbr&#101;z&#105;ny' + '&#64;' + 's&#101;zn&#97;m' + '&#46;' + 'cz';document.getElementById('cloak7c018181bbc0dc658faf5e1af19a9ef8').innerHTML += ''+addy_text7c018181bbc0dc658faf5e1af19a9ef8+'';
		, 724 925 406
DTSTAMP:20260425T032456Z
DTSTART:20210518T140000Z
DTEND:20210518T160000Z
SEQUENCE:0
TRANSP:OPAQUE
END:VEVENT
END:VCALENDAR