BEGIN:VCALENDAR
VERSION:2.0
PRODID:-//jEvents 2.0 for Joomla//EN
CALSCALE:GREGORIAN
METHOD:PUBLISH
BEGIN:VEVENT
UID:a43657fab125cc2718b849e5784672ca
CATEGORIES:Fotbal
CREATED:20210509T113114
SUMMARY:NÁBOR NOVÝCH FOTBALISTŮ
LOCATION:fotbalové hřiště, areál SK Březiny
DESCRIPTION;ENCODING=QUOTED-PRINTABLE:\n\nNÁBOR nových fotbalistů pro fotbalový klub SK BŘEZINY\n\n\n \n\n\nkateg
 orie MLADŠÍ PŘÍPRAVKA (ročníky 2013-2014)\n\n\n\n\n\nkaždé úterý 16,30- 17,
 30\n\n\n\n\n\ns sebou sportovní oblečení a obuv a vlastní láhev s pitím\n
CONTACT:Tato e-mailová adresa je chráněna před spamboty. Pro její zobrazení musíte mít povolen Javascript.
				document.getElementById('cloak2576cde2e3ee1f982d52edf476a6780b').innerHTML = '';
				var prefix = '&#109;a' + 'i&#108;' + '&#116;o';
				var path = 'hr' + 'ef' + '=';
				var addy2576cde2e3ee1f982d52edf476a6780b = 'f&#111;tb&#97;lbr&#101;z&#105;ny' + '&#64;';
				addy2576cde2e3ee1f982d52edf476a6780b = addy2576cde2e3ee1f982d52edf476a6780b + 's&#101;zn&#97;m' + '&#46;' + 'cz';
				var addy_text2576cde2e3ee1f982d52edf476a6780b = 'f&#111;tb&#97;lbr&#101;z&#105;ny' + '&#64;' + 's&#101;zn&#97;m' + '&#46;' + 'cz';document.getElementById('cloak2576cde2e3ee1f982d52edf476a6780b').innerHTML += ''+addy_text2576cde2e3ee1f982d52edf476a6780b+'';
		, 724 925 406
DTSTAMP:20260425T201450Z
DTSTART:20210511T140000Z
DTEND:20210511T160000Z
SEQUENCE:0
TRANSP:OPAQUE
END:VEVENT
END:VCALENDAR