BEGIN:VCALENDAR
VERSION:2.0
PRODID:-//jEvents 2.0 for Joomla//EN
CALSCALE:GREGORIAN
METHOD:PUBLISH
BEGIN:VEVENT
UID:2d6716174f5bd926dfbfff6f1b3b4aec
CATEGORIES:Fotbal
CREATED:20210509T112811
SUMMARY:NÁBOR NOVÝCH FOTBALISTŮ
LOCATION:fotbalové hřiště, areál SK Březiny
DESCRIPTION;ENCODING=QUOTED-PRINTABLE:\n\nNÁBOR nových malých fotbalistů do fotbalového klubu SK Březiny\n\n\n\n\
 n\nkategorie MINI PŘÍPRAVKA\n\n\n\n\n\nkaždé pondělí 16,30-17,30\n\n\n\n\n\
 ns sebou sportovní oblečení a obuv a vlastní láhev s pitím\n
CONTACT:Tato e-mailová adresa je chráněna před spamboty. Pro její zobrazení musíte mít povolen Javascript.
				document.getElementById('cloak32eff02added55328b671a4c10feebf8').innerHTML = '';
				var prefix = '&#109;a' + 'i&#108;' + '&#116;o';
				var path = 'hr' + 'ef' + '=';
				var addy32eff02added55328b671a4c10feebf8 = 'f&#111;tb&#97;lbr&#101;z&#105;ny' + '&#64;';
				addy32eff02added55328b671a4c10feebf8 = addy32eff02added55328b671a4c10feebf8 + 's&#101;zn&#97;m' + '&#46;' + 'cz';
				var addy_text32eff02added55328b671a4c10feebf8 = 'f&#111;tb&#97;lbr&#101;z&#105;ny' + '&#64;' + 's&#101;zn&#97;m' + '&#46;' + 'cz';document.getElementById('cloak32eff02added55328b671a4c10feebf8').innerHTML += ''+addy_text32eff02added55328b671a4c10feebf8+'';
		, 724 925 406
DTSTAMP:20260426T025017Z
DTSTART:20210524T140000Z
DTEND:20210524T160000Z
SEQUENCE:0
TRANSP:OPAQUE
END:VEVENT
END:VCALENDAR