BEGIN:VCALENDAR
VERSION:2.0
PRODID:-//jEvents 2.0 for Joomla//EN
CALSCALE:GREGORIAN
METHOD:PUBLISH
BEGIN:VEVENT
UID:38d3ea733593cc98c8e27beacd7b2e16
CATEGORIES:Běh
CREATED:20200103T105234
SUMMARY:Duatlon pro děti
LOCATION:Děčín – Zámecký park-Mariánská louka
DESCRIPTION;ENCODING=QUOTED-PRINTABLE:"Závod budoucích hvězd"\n\n \nTermín konání:18.5.2021  - Slavata tour a  8.
 9.2021Místo akce:Děčín – Zámecký park(Mariánská louka) - Labské Nábřeží – S
 everní ČechyStart:Dětský závod cca 16.00 hod. dle kategorii, vyhlášení výsl
 edků 18.30 hod.Koncept:Klasický terénní duatlon = běh - kolo - běhStartovné
 :DOBROVOLNÉ 50 Kč,- půjde na dobročinné účelyŘeditel závodu:Marek Peterka\n
 \n \nČasový harmonogram závodu a kategorie:\n\nPrezentace: 15.00 – 17.00 ho
 d. dle kategorií, vždy min.30 minut před startem\n\n\nKategorie budou rozdě
 lení dle věku, nikoliv dle ročníku. \n\n\n15.50 - Děti do 3 let (odrážedla)
                                                   speciální trať \n\n\n16.0
 0 - Děti do 4 let                                                          
              1 kolo; 1 kolo (K;B)\n\n\n16.10 - Děti 5 – 6 let              
                                                         1 kolo; 1 kolo (K;B
 )\n\n\n16.20 - Chlapci a dívky  7 – 8 let                                  
               1 kolo; 1 kolo; 1 kolo (B;K;B)\n\n\n16.40 - Chlapci a dívky  
 9 – 10 let                                             1 kolo; 2 kola; 1 ko
 lo (B;K;B)\n\n\n \n\n\n17.00 – Vyhlášení výše uvedených kategorií\n\n\n \n\
 n\n17.35 - Chlapci a dívky  11 – 12 let                                    
          1 kola; 2 kola; 1 kolo (B;K;B)\n\n\n18.00 - Chlapci a dívky  13 – 
 15 let                                           2 kola; 3 kola; 1 kolo (B;
 K;B)\n\n\n \n\n\n18.30 – Vyhlášení výše uvedených kategorií\n\n\n \n\n\nČas
 ový plán může být mírně upraven!\n\n\n \nStartovné:       \n\n 50 Kč,- půjd
 e na dobročinné účely, platba na místě\n\n\nMOŽNOST ZAPŮJČENÍ KOLA ZDARMA\n
  Distance:\n\nBěh - V okolí Děčínského zámku a Zámeckého parku. Zvlněný pro
 fil trati.\n\n\nMTB - Polní a lesní cesty Zámeckého parku\n\n\nDistance dle
  věkových kategorií.\n Price money:\n\nvěcné ceny\n Parkování:\n\nParkovišt
 ě vedle zámeckého rybníku a Labské Nábřeží (před Atlantikem)\n\n\n \nPravid
 la závodu:\n\nDle pravidel duatlonu.\n\n\n \nZakladatelé akce: Marek Peterk
 a a Jaroslav Hauzírek 2010, Tomáš Slavata - Slavata tour
CONTACT:http://www.decinsportfest.cz.   http://konkordia-decin.cz
DTSTAMP:20260426T045019Z
DTSTART;VALUE=DATE:20210519
DTEND;VALUE=DATE:20210520
SEQUENCE:0
TRANSP:OPAQUE
END:VEVENT
END:VCALENDAR