BEGIN:VCALENDAR
VERSION:2.0
PRODID:-//jEvents 2.0 for Joomla//EN
CALSCALE:GREGORIAN
METHOD:PUBLISH
BEGIN:VEVENT
UID:4142205a31e0061b680037949b923916
CATEGORIES:Triatlon
CREATED:20210201T125556
SUMMARY:Winterman Xtreme Triathlon
LOCATION:Smetanovo nábřeží Děčín
DESCRIPTION;ENCODING=QUOTED-PRINTABLE:<p><span>WINTERMAN je extrémní triatlon na ironmanských distancích - 3,8km 
 plavání, 180km kolo a 42,2km běh. Winterman je součástí celosvětové série X
 TRI SERIES.</span><br /><span>Je to unikátní cesta v nádherné krajině České
 ho Švýcarska a Lužických hor, plná nepřístupných lesů, hlubokých údolí</spa
 n><br /><span>a skalních útvarů, končící na jednom z nejkrásnějších českých
  vrcholů Ještěd (1012m).</span><br /><span>Je to zároveň unikát v jedinečné
  silně prožitkové plavecké části, která nemá nikde jinde na světě obdoby.</
 span><br /><span>Wintermana budete sdílet se svými nejbližšími, s rodinou, 
 partnery a přáteli,</span><span>kteří s vámi budou prožívat všechny emoce, 
 trpět bolest a radovat se z vítězství.</span><br /><br /></p>
CONTACT:Tato e-mailová adresa je chráněna před spamboty. Pro její zobrazení musíte mít povolen Javascript.
				document.getElementById('cloak00c0a52951d1e747bcc3cc325738cf37').innerHTML = '';
				var prefix = '&#109;a' + 'i&#108;' + '&#116;o';
				var path = 'hr' + 'ef' + '=';
				var addy00c0a52951d1e747bcc3cc325738cf37 = 'w&#105;nt&#101;rm&#97;n' + '&#64;';
				addy00c0a52951d1e747bcc3cc325738cf37 = addy00c0a52951d1e747bcc3cc325738cf37 + 'czxtr&#105;' + '&#46;' + 'c&#111;m';
				var addy_text00c0a52951d1e747bcc3cc325738cf37 = 'w&#105;nt&#101;rm&#97;n' + '&#64;' + 'czxtr&#105;' + '&#46;' + 'c&#111;m';document.getElementById('cloak00c0a52951d1e747bcc3cc325738cf37').innerHTML += ''+addy_text00c0a52951d1e747bcc3cc325738cf37+'';
		
DTSTAMP:20260425T033703Z
DTSTART:20271010T030000Z
DTEND:20271009T215959Z
SEQUENCE:0
TRANSP:OPAQUE
END:VEVENT
END:VCALENDAR