BEGIN:VCALENDAR
VERSION:2.0
PRODID:-//jEvents 2.0 for Joomla//EN
CALSCALE:GREGORIAN
METHOD:PUBLISH
BEGIN:VEVENT
UID:419ae9464187ed6507a7385abe39e771
CATEGORIES:Hokej
CREATED:20260128T104821
SUMMARY:SVÁTEK HOKEJE – DĚČÍN ODEHRAJE SEVEROČESKÉ DERBY PROTI ÚSTÍ NAD LABEM POD ŠIRÝM NEBEM
LOCATION:Povrly Zimní stadion Jiřího Svobody
DESCRIPTION;ENCODING=QUOTED-PRINTABLE:\n\nHokejové fanoušky Ústeckého kraje čeká velký svátek. Ledová plocha na Z
 imním stadionu Jiřího Svobody v Povrlech nabídne na přelomu ledna a února z
 ápasy pod širým nebem. Fantastickou zprávou je, že se do akce Povrly Outdoo
 r Hockey Games zapojí i Medvědi. V neděli 1. února se v severočeském derby 
 utkají s Ústím nad Labem.\n\nCelá akce, kterou v rámci oslav osmdesátého vý
 ročí založení klubu organizují Piráti, přinese do regionu jedinečnou hokejo
 vou atmosféru a nabídne i několik dalších zápasů. Diváci se už v pátek 30. 
 ledna od 18 hodin můžou těšit na utkání Univerzitní ligy ledního hokeje mez
 i ústeckými North Wings a pardubickými Riders. V sobotu přijde na řadu stře
 t prvoligových týmů – pod širým nebem se představí Piráti Chomutov a HC Sta
 dion Litoměřice. Poslední den bude patřit Medvědům. A koho jiného si za sou
 peře přát než sousedního rivala z Ústí nad Labem. Začátek severočeského der
 by je naplánován na 17:30.\n\n„S tímto nápadem nás oslovili Piráti. S Chomu
 tovem máme výborné vztahy, čtyři roky zpátky nám pomohli zachránit klub ve 
 2. lize, takže od té doby udržujeme přátelský kontakt. Povrly Outdoor Hocke
 y Games je za nás rozhodně super akce. Pokud se vše podaří, vnímáme to jako
  skvělou propagaci hokeje v rámci Ústeckého kraje a myslím si, že by to moh
 lo mít přesah i napříč celou republikou,“ říká děčínský manažer Jan Havlíče
 k.\n\n„Poslední dobou se tyto akce spíš rušily, ať už ve Špindlerově Mlýně,
  nebo loni na Letenské pláni. Chceme udělat všechno pro to, aby se v Povrle
 ch odehrály kvalitní zápasy. Myslím si, že i na úrovni 2. ligy má derby mez
 i Děčínem a Ústím vždycky velký náboj. Jsem za tuto akci rád a vnímám to i 
 z chomutovské strany tak, že se jedná hlavně o propagaci hokeje,“ dodává je
 dnatel A-mužstva.\n\nZápas pod otevřeným nebem slibuje jedinečný zážitek pr
 o hráče i fanoušky. „Winter Classic“ má rozhodně své kouzlo, které nás vrac
 í ke kořenům tohoto sportu. A pro severočeské derby mezi Děčínem a Ústím bu
 de atmosféra v Povrlech zcela unikátní – už jen proto, že se obec nachází n
 a cestě právě mezi těmito sousedními městy.\n
CONTACT:Jakub Kohout +420 773 638 665
DTSTAMP:20260425T134644Z
DTSTART:20260130T130000Z
DTEND:20260130T170000Z
SEQUENCE:0
TRANSP:OPAQUE
END:VEVENT
END:VCALENDAR