BEGIN:VCALENDAR
VERSION:2.0
PRODID:-//jEvents 2.0 for Joomla//EN
CALSCALE:GREGORIAN
METHOD:PUBLISH
BEGIN:VEVENT
UID:b02fff7da4a1d7e17b820b48cb2fe259
CATEGORIES:Cyklistika
CREATED:20200113T171747
SUMMARY:Vanoční vyjíždka MTB
LOCATION:Děčín 
DESCRIPTION;ENCODING=QUOTED-PRINTABLE:Vánoční vyjíždka - propozice"Vánoce na kole v destine I na sněhu"\n\n \nTer
 mín konání:24.12Místo akce:\n\nDěčín, Start Bezručova ul.\nStart:10.00Konce
 pt:Pohodová vyjíždkaStartovné:fajn náladaŘeditel závodu:žádný\n\n \nČasový 
 harmonogram závodu:\n\nOdjezd v 10:00  \n Kategorie:    \n\n0-120\nStartovn
 é:\n\n\n0Distance:\n\ncca 25 km směr Děčínský Snežník\n\n\n\nPravidla závod
 u:\n\nŽádná\n Důležité:\n\nPozor je 24.12.VÁNOCE\n\n\n \nZhodnocení:\n\nHos
 poda v Děčíně\n\n\n \nZakladatel akce: Marek Peterka 1993
DTSTAMP:20260425T134654Z
DTSTART:20281224T090000Z
DTEND:20281224T150000Z
SEQUENCE:0
TRANSP:OPAQUE
END:VEVENT
END:VCALENDAR