BEGIN:VCALENDAR
VERSION:2.0
PRODID:-//jEvents 2.0 for Joomla//EN
CALSCALE:GREGORIAN
METHOD:PUBLISH
BEGIN:VEVENT
UID:c6192dd6b0ea5d88a7ead3587f01f78a
CATEGORIES:Futsal
CREATED:20230403T160331
SUMMARY:Okresní futsalové soutěže
LOCATION:hřiště Kocanda
DESCRIPTION;ENCODING=QUOTED-PRINTABLE:
DTSTAMP:20260425T161348Z
DTSTART:20230515T163000Z
DTEND:20230515T184000Z
SEQUENCE:0
TRANSP:OPAQUE
END:VEVENT
END:VCALENDAR