BEGIN:VCALENDAR
VERSION:2.0
PRODID:-//jEvents 2.0 for Joomla//EN
CALSCALE:GREGORIAN
METHOD:PUBLISH
BEGIN:VEVENT
UID:37c10edecfed7e9b06f27eff8c166d5a
CATEGORIES:Futsal
CREATED:20230403T160036
SUMMARY:Okresní futsalové soutěže
LOCATION:hřiště Kocanda
DESCRIPTION;ENCODING=QUOTED-PRINTABLE:
DTSTAMP:20260425T161354Z
DTSTART:20230505T163000Z
DTEND:20230505T194000Z
SEQUENCE:0
TRANSP:OPAQUE
END:VEVENT
END:VCALENDAR