BEGIN:VCALENDAR
VERSION:2.0
PRODID:-//jEvents 2.0 for Joomla//EN
CALSCALE:GREGORIAN
METHOD:PUBLISH
BEGIN:VEVENT
UID:89871313031b90a15e61cdef6320a216
CATEGORIES:Potápění
CREATED:20211208T112520
SUMMARY:Dětský kroužek Rejnok
LOCATION:Aquapark Děčín
DESCRIPTION;ENCODING=QUOTED-PRINTABLE:
DTSTAMP:20260425T010148Z
DTSTART:20210608T150000Z
DTEND:20220712T160000Z
SEQUENCE:0
TRANSP:OPAQUE
END:VEVENT
END:VCALENDAR