BEGIN:VCALENDAR
VERSION:2.0
PRODID:-//jEvents 2.0 for Joomla//EN
CALSCALE:GREGORIAN
METHOD:PUBLISH
BEGIN:VEVENT
UID:8eac65550bc5cad0f464b582f52e66ba
CATEGORIES:Florbal
CREATED:20210520T134403
SUMMARY:Florbalový Děčín (Florbal DC OPEN Air 2021)
LOCATION:Hokejbalové hřiště
DESCRIPTION;ENCODING=QUOTED-PRINTABLE:\n\nFlorbalový Děčín 2021\n\n\n10.ročník tradičního ročníku v trojkovém flo
 rbale jenž je součástí týdne plného florbalu DC OPEN Air 2021 pro hráče a h
 ráčky 2005 a starší. Turnaje se zúčastňují amatéři i registrovaní hráči. Ce
 lá akce se uskuteční na nově postaveném hokejbalovém hřišti, který povrchov
 ě vyhovuje. Turnaj podpoří děčínský pivovar Nomád. Přihlášky na emailu Tato
  e-mailová adresa je chráněna před spamboty. Pro její zobrazení musíte mít 
 povolen Javascript.
				document.getElementById('cloak03a161fe87ad8c4a9901d
 dcd819fbb9f').innerHTML = '';
				var prefix = '&#109;a' + 'i&#108;' + '&#1
 16;o';
				var path = 'hr' + 'ef' + '=';
				var addy03a161fe87ad8c4a9901dd
 cd819fbb9f = 'fbcd&#101;c&#105;n' + '&#64;';
				addy03a161fe87ad8c4a9901dd
 cd819fbb9f = addy03a161fe87ad8c4a9901ddcd819fbb9f + '&#97;tl&#97;s' + '&#46
 ;' + 'cz';
				var addy_text03a161fe87ad8c4a9901ddcd819fbb9f = 'fbcd&#101;c
 &#105;n' + '&#64;' + '&#97;tl&#97;s' + '&#46;' + 'cz';document.getElementBy
 Id('cloak03a161fe87ad8c4a9901ddcd819fbb9f').innerHTML += ''+addy_text03a161
 fe87ad8c4a9901ddcd819fbb9f+'';
		, 775862628\n\n\n\n
CONTACT:Tomáš Štěpánek (775 862 628)
DTSTAMP:20260425T161407Z
DTSTART:20210612T060000Z
DTEND:20210612T150000Z
SEQUENCE:0
TRANSP:OPAQUE
END:VEVENT
END:VCALENDAR