BEGIN:VCALENDAR
VERSION:2.0
PRODID:-//jEvents 2.0 for Joomla//EN
CALSCALE:GREGORIAN
METHOD:PUBLISH
BEGIN:VEVENT
UID:d7f8976f5eb7489ab90312e2a522914b
CATEGORIES:Běh
CREATED:20210516T205103
SUMMARY:Přes Ostrý pro ostrý
DESCRIPTION;ENCODING=QUOTED-PRINTABLE:\n\nPřes Ostrý pro ostrý\n\n\n (3. závod seriálu MODRÁ STUHA 2021)\n\n\n \n
 \n\nTermín:               středa  30.června 2021 v 18:00 \n\n\nMísto:      
             Františkov – Benešov n.Pl.  - start / cíl - u hřiště FK Františ
 kov nad Ploučnicí (GPS 50.7295408N, 14.3256261E)\n\n\nTrať:                
       5 km, jeden značený okruh, povrch smíšený polní a lesní cesty, částeč
 ně asfalt\n\n\nPřihlášky:            on-line za zvýhodněné startovné – www.
 konkordia-decin.cz nebo na místě nejpozději 15 minut před startem\n\n\nStar
 tovné:          30,-Kč přihláška předem do 29.6.2021 15:00, na místě 50,-Kč
 \n\n\nPrezentace:       od 17:00 v prostoru startu a cíle u lavičky Milenec
 ké hlavy, poslední prezentace         15 minut před startem\n\n\nCeny:     
                diplomy a věcné ceny pro první tři závodníky v každé kategor
 ii\n\n\nKategorie:          muži do 49 let, ženy do 39 let, muži od 50 let,
  ženy od 40 let\n\n\nObčerstvení:     v cíli čaj a sušenky\n\n\nPojištění: 
            závodníci běží  na vlastní nebezpečí a náklady\n\n\nInformace:  
        Tato e-mailová adresa je chráněna před spamboty. Pro její zobrazení 
 musíte mít povolen Javascript.
				document.getElementById('cloakaa026f3e5a
 df38173790ff48f35619ec').innerHTML = '';
				var prefix = '&#109;a' + 'i&#1
 08;' + '&#116;o';
				var path = 'hr' + 'ef' + '=';
				var addyaa026f3e5ad
 f38173790ff48f35619ec = 'k&#111;nk&#111;rd&#105;&#97;dc' + '&#64;';
				add
 yaa026f3e5adf38173790ff48f35619ec = addyaa026f3e5adf38173790ff48f35619ec + 
 'gm&#97;&#105;l' + '&#46;' + 'c&#111;m';
				var addy_textaa026f3e5adf38173
 790ff48f35619ec = 'k&#111;nk&#111;rd&#105;&#97;dc' + '&#64;' + 'gm&#97;&#10
 5;l' + '&#46;' + 'c&#111;m';document.getElementById('cloakaa026f3e5adf38173
 790ff48f35619ec').innerHTML += ''+addy_textaa026f3e5adf38173790ff48f35619ec
 +'';
		 popř. 770146536\n\n\n \n
DTSTAMP:20260425T124541Z
DTSTART:20210630T160000Z
DTEND:20210630T173000Z
SEQUENCE:0
TRANSP:OPAQUE
END:VEVENT
END:VCALENDAR