BEGIN:VCALENDAR
VERSION:2.0
PRODID:-//jEvents 2.0 for Joomla//EN
CALSCALE:GREGORIAN
METHOD:PUBLISH
BEGIN:VEVENT
UID:2d6716174f5bd926dfbfff6f1b3b4aec
CATEGORIES:Fotbal
CREATED:19700101T010000
SUMMARY:NÁBOR NOVÝCH FOTBALISTŮ
LOCATION:fotbalové hřiště, areál SK Březiny
DESCRIPTION;ENCODING=QUOTED-PRINTABLE:\n\nNÁBOR nových malých fotbalistů do fotbalového klubu SK Březiny\n\n\n\n\
 n\nkategorie MINI PŘÍPRAVKA\n\n\n\n\n\nkaždé pondělí 16,30-17,30\n\n\n\n\n\
 ns sebou sportovní oblečení a obuv a vlastní láhev s pitím\n
CONTACT:fotbalbreziny@seznam.cz, 724 925 406
DTSTAMP:20260425T201549Z
DTSTART:20210510T140000Z
DTEND:20210510T160000Z
SEQUENCE:0
RRULE:FREQ=WEEKLY;COUNT=3;INTERVAL=1;BYDAY=MO
TRANSP:OPAQUE
END:VEVENT
END:VCALENDAR