BEGIN:VCALENDAR
VERSION:2.0
PRODID:-//jEvents 2.0 for Joomla//EN
CALSCALE:GREGORIAN
METHOD:PUBLISH
BEGIN:VEVENT
UID:23312ca2df6b459db874d59580d7a402
CATEGORIES:VOLNÝ ČÁS
CREATED:20210223T090635
SUMMARY:Dvoudenní rekondice s turnajem v kuželkách
LOCATION:Doksy
DESCRIPTION;ENCODING=QUOTED-PRINTABLE:
CONTACT:775866348
DTSTAMP:20260426T040424Z
DTSTART:20210511T120000Z
DTEND:20210513T080000Z
SEQUENCE:0
TRANSP:OPAQUE
END:VEVENT
END:VCALENDAR