BEGIN:VCALENDAR
VERSION:2.0
PRODID:-//jEvents 2.0 for Joomla//EN
CALSCALE:GREGORIAN
METHOD:PUBLISH
BEGIN:VEVENT
UID:d3c5a5794deb51a838f2f61dc0f10961
CATEGORIES:Kuželky
CREATED:20210223T081843
SUMMARY:Turnaj v kuželkách
LOCATION:Doksy
DESCRIPTION;ENCODING=QUOTED-PRINTABLE:
CONTACT:775866348
DTSTAMP:20260425T010134Z
DTSTART:20210223T070000Z
DTEND:20210223T160000Z
SEQUENCE:0
TRANSP:OPAQUE
END:VEVENT
END:VCALENDAR