BEGIN:VCALENDAR
VERSION:2.0
PRODID:-//jEvents 2.0 for Joomla//EN
CALSCALE:GREGORIAN
METHOD:PUBLISH
BEGIN:VEVENT
UID:4142205a31e0061b680037949b923916
CATEGORIES:Triatlon
CREATED:19700101T010000
SUMMARY:Winterman Xtreme Triathlon
LOCATION:Smetanovo nábřeží Děčín
DESCRIPTION;ENCODING=QUOTED-PRINTABLE:\n\nWINTERMAN je extrémní triatlon na ironmanských distancích - 3,8km plavá
 ní, 180km kolo a 42,2km běh. Winterman je součástí celosvětové série XTRI S
 ERIES.\nJe to unikátní cesta v nádherné krajině Českého Švýcarska a Lužický
 ch hor, plná nepřístupných lesů, hlubokých údolí\na skalních útvarů, končíc
 í na jednom z nejkrásnějších českých vrcholů Ještěd (1012m).\nJe to zároveň
  unikát v jedinečné silně prožitkové plavecké části, která nemá nikde jinde
  na světě obdoby.\nWintermana budete sdílet se svými nejbližšími, s rodinou
 , partnery a přáteli,kteří s vámi budou prožívat všechny emoce, trpět boles
 t a radovat se z vítězství.\n\n\n
CONTACT:winterman@czxtri.com
DTSTAMP:20260425T124219Z
DTSTART:20211010T030000Z
DTEND:20211009T215959Z
SEQUENCE:0
RRULE:FREQ=YEARLY;UNTIL=20380120T000000Z;INTERVAL=1;BYYEARDAY=+283
TRANSP:OPAQUE
END:VEVENT
END:VCALENDAR