BEGIN:VCALENDAR
VERSION:2.0
PRODID:-//jEvents 2.0 for Joomla//EN
CALSCALE:GREGORIAN
METHOD:PUBLISH
BEGIN:VEVENT
UID:aa30be86b07384b490bb34f9d2ede4e4
CATEGORIES:Běh
CREATED:20210130T200641
SUMMARY:Děčínská míle
LOCATION:Atletický stadion SK Děčín
DESCRIPTION;ENCODING=QUOTED-PRINTABLE:\n\nVÍCE INFORMACÍ NA WWW.ASKDECIN.CZ/POHAR \n
CONTACT:Tato e-mailová adresa je chráněna před spamboty. Pro její zobrazení musíte mít povolen Javascript.
				document.getElementById('cloaked38e2f44f58d42ac708f7aaeee2c00c').innerHTML = '';
				var prefix = '&#109;a' + 'i&#108;' + '&#116;o';
				var path = 'hr' + 'ef' + '=';
				var addyed38e2f44f58d42ac708f7aaeee2c00c = 'p&#101;tr&#105;k.h&#111;rn&#105;k' + '&#64;';
				addyed38e2f44f58d42ac708f7aaeee2c00c = addyed38e2f44f58d42ac708f7aaeee2c00c + 's&#101;zn&#97;m' + '&#46;' + 'cz';
				var addy_texted38e2f44f58d42ac708f7aaeee2c00c = 'p&#101;tr&#105;k.h&#111;rn&#105;k' + '&#64;' + 's&#101;zn&#97;m' + '&#46;' + 'cz';document.getElementById('cloaked38e2f44f58d42ac708f7aaeee2c00c').innerHTML += ''+addy_texted38e2f44f58d42ac708f7aaeee2c00c+'';
		
X-EXTRAINFO:VÍCE INFORMACÍ NA WWW.ASKDECIN.CZ/POHAR 
DTSTAMP:20260426T005832Z
DTSTART;VALUE=DATE:20210619
DTEND;VALUE=DATE:20210620
SEQUENCE:0
TRANSP:OPAQUE
END:VEVENT
END:VCALENDAR