BEGIN:VCALENDAR
VERSION:2.0
PRODID:-//jEvents 2.0 for Joomla//EN
CALSCALE:GREGORIAN
METHOD:PUBLISH
BEGIN:VEVENT
UID:7e9952e7ad36aa9794ba1473395ca6ba
CATEGORIES:Běh
CREATED:20210130T195944
SUMMARY:Lotharův Běh 2021
LOCATION:Krásný studenec
DESCRIPTION;ENCODING=QUOTED-PRINTABLE:Pojďte si s námi zaběhnout 8. ročník zimního nenáročného závodu v tak troch
 u zapomenuté přírodě v blízkosti měst Děčín a Jílové. Zvládnete rovnou hlav
 ní závod na 10 kilometrů, nebo raději víc pohodových 5 km? Letos poprvé měř
 íme závod profesionální čipovou technologií. Každý závodník dostane při pre
 zentaci startovní balíček.Vzhledem k aktuální situaci nelze platit startovn
 é předem, pro sníženou cenu se stačí zaregistrovat.\n\nZávod se koná na poč
 est 895. výročí triumfálního vítězství českého knížete Soběslava I. v bitvě
  u Chlumce a následného zajetí německého krále Lothara III. na dnešním Loth
 arově vrchu u Krásného Studence.\n​​\nObě tratě startují v 11:00 hodin na z
 ačátku vedlejší komunikace před domem čp. 69, Děčín 24 – Krásný Studenec, c
 ca 20 m od pomníku obětem 1. světové války, který se nachází u křižovatky -
  přesná poloha startu\n​\nVÍCE INFORMACÍ NA OFICIÁLNÍM WEBU ZÁVODU - WWW.AS
 KDECIN.CZ/LOTHARUVBEH \n​\n\n
CONTACT:Tato e-mailová adresa je chráněna před spamboty. Pro její zobrazení musíte mít povolen Javascript.
				document.getElementById('cloakbc15077070a125b1d560d03e86bf91f5').innerHTML = '';
				var prefix = '&#109;a' + 'i&#108;' + '&#116;o';
				var path = 'hr' + 'ef' + '=';
				var addybc15077070a125b1d560d03e86bf91f5 = 'p&#101;tr&#105;k.h&#111;rn&#105;k' + '&#64;';
				addybc15077070a125b1d560d03e86bf91f5 = addybc15077070a125b1d560d03e86bf91f5 + 's&#101;zn&#97;m' + '&#46;' + 'cz';
				var addy_textbc15077070a125b1d560d03e86bf91f5 = 'p&#101;tr&#105;k.h&#111;rn&#105;k' + '&#64;' + 's&#101;zn&#97;m' + '&#46;' + 'cz';document.getElementById('cloakbc15077070a125b1d560d03e86bf91f5').innerHTML += ''+addy_textbc15077070a125b1d560d03e86bf91f5+'';
		
X-EXTRAINFO:Více informací na www.askdecin.cz
DTSTAMP:20260425T103120Z
DTSTART:20210711T080000Z
DTEND:20210711T130000Z
SEQUENCE:0
TRANSP:OPAQUE
END:VEVENT
END:VCALENDAR