BEGIN:VCALENDAR
VERSION:2.0
PRODID:-//jEvents 2.0 for Joomla//EN
CALSCALE:GREGORIAN
METHOD:PUBLISH
BEGIN:VEVENT
UID:84e1bc072370917cbb0e1b46de22aeaf
CATEGORIES:Vodní motorismus
CREATED:20210128T145307
SUMMARY:2. kolo MČR FF slalom
LOCATION:Brandýs nad Labem (KOTVA Brandýs)
DESCRIPTION;ENCODING=QUOTED-PRINTABLE:
CONTACT:Tato e-mailová adresa je chráněna před spamboty. Pro její zobrazení musíte mít povolen Javascript.
				document.getElementById('cloak8ade29e68f4ea68daae47cabd597202c').innerHTML = '';
				var prefix = '&#109;a' + 'i&#108;' + '&#116;o';
				var path = 'hr' + 'ef' + '=';
				var addy8ade29e68f4ea68daae47cabd597202c = 'p&#97;v&#101;ld&#117;d&#97;.dc' + '&#64;';
				addy8ade29e68f4ea68daae47cabd597202c = addy8ade29e68f4ea68daae47cabd597202c + 's&#101;zn&#97;m' + '&#46;' + 'cz';
				var addy_text8ade29e68f4ea68daae47cabd597202c = 'p&#97;v&#101;ld&#117;d&#97;.dc' + '&#64;' + 's&#101;zn&#97;m' + '&#46;' + 'cz';document.getElementById('cloak8ade29e68f4ea68daae47cabd597202c').innerHTML += ''+addy_text8ade29e68f4ea68daae47cabd597202c+'';
		, 724 636 356
DTSTAMP:20260424T220451Z
DTSTART:20210626T070000Z
DTEND:20210626T150000Z
SEQUENCE:0
TRANSP:OPAQUE
END:VEVENT
END:VCALENDAR