BEGIN:VCALENDAR
VERSION:2.0
PRODID:-//jEvents 2.0 for Joomla//EN
CALSCALE:GREGORIAN
METHOD:PUBLISH
BEGIN:VEVENT
UID:ab5f7ed025e3974bafb4213b527e7c4c
CATEGORIES:Triatlon
CREATED:19700101T010000
SUMMARY:Duatlon pro děti
LOCATION:Děčín – Zámecký park-Mariánská louka
DESCRIPTION;ENCODING=QUOTED-PRINTABLE:"Závod budoucích hvězd"\n\n \nTermín konání: 9.9.2021Místo akce:Děčín – Zám
 ecký park(Mariánská louka) - Labské Nábřeží – Severní ČechyStart:Dětský záv
 od cca 16.00 hod. dle kategorii, vyhlášení výsledků 18.30 hod.Koncept:Klasi
 cký terénní duatlon = běh - kolo - běhStartovné:DOBROVOLNÉ 50 Kč,- půjde na
  dobročinné účelyŘeditel závodu:Marek Peterka\n\n \nČasový harmonogram závo
 du a kategorie:\n\nPrezentace: 15.00 – 17.00 hod. dle kategorií, vždy min.3
 0 minut před startem\n\n\nKategorie budou rozdělení dle věku, nikoliv dle r
 očníku. \n\n\n15.50 - Děti do 3 let (odrážedla)                            
                       speciální trať \n\n\n16.00 - Děti do 4 let           
                                                             1 kolo; 1 kolo 
 (K;B)\n\n\n16.10 - Děti 5 – 6 let                                          
                             1 kolo; 1 kolo (K;B)\n\n\n16.20 - Chlapci a dív
 ky  7 – 8 let                                                1 kolo; 1 kolo
 ; 1 kolo (B;K;B)\n\n\n16.40 - Chlapci a dívky  9 – 10 let                  
                            1 kolo; 2 kola; 1 kolo (B;K;B)\n\n\n \n\n\n17.00
  – Vyhlášení výše uvedených kategorií\n\n\n \n\n\n17.35 - Chlapci a dívky  
 11 – 12 let                                             1 kola; 2 kola; 1 k
 olo (B;K;B)\n\n\n18.00 - Chlapci a dívky  13 – 15 let                      
                      2 kola; 3 kola; 1 kolo (B;K;B)\n\n\n \n\n\n18.30 – Vyh
 lášení výše uvedených kategorií\n\n\n \n\n\nČasový plán může být mírně upra
 ven!\n\n\n \nStartovné:       \n\n 50 Kč,- půjde na dobročinné účely, platb
 a na místě\n\n\nMOŽNOST ZAPŮJČENÍ KOLA ZDARMA\n Distance:\n\nBěh - V okolí 
 Děčínského zámku a Zámeckého parku. Zvlněný profil trati.\n\n\nMTB - Polní 
 a lesní cesty Zámeckého parku\n\n\nDistance dle věkových kategorií.\n Price
  money:\n\nvěcné ceny\n Parkování:\n\nParkoviště vedle zámeckého rybníku a 
 Labské Nábřeží (před Atlantikem)\n\n\n \nPravidla závodu:\n\nDle pravidel d
 uatlonu.\n\n\n \nZakladatelé akce: Marek Peterka a Jaroslav Hauzírek 2010, 
 Tomáš Slavata - Slavata tour
CONTACT:	http://www.decinsportfest.cz
DTSTAMP:20260425T190821Z
DTSTART;VALUE=DATE:20200908
DTEND;VALUE=DATE:20200909
SEQUENCE:0
RRULE:FREQ=YEARLY;COUNT=10;INTERVAL=1;BYYEARDAY=-115
TRANSP:OPAQUE
END:VEVENT
BEGIN:VEVENT
UID:ab5f7ed025e3974bafb4213b527e7c4c
CATEGORIES:Triatlon
CREATED:20200103T105609
SUMMARY:Duatlon pro děti
LOCATION:Děčín – Zámecký park-Mariánská louka
DESCRIPTION;ENCODING=QUOTED-PRINTABLE:"Závod budoucích hvězd"\n\n \nTermín konání: 9.9.2021Místo akce:Děčín – Zám
 ecký park(Mariánská louka) - Labské Nábřeží – Severní ČechyStart:Dětský záv
 od cca 16.00 hod. dle kategorii, vyhlášení výsledků 18.30 hod.Koncept:Klasi
 cký terénní duatlon = běh - kolo - běhStartovné:DOBROVOLNÉ 50 Kč,- půjde na
  dobročinné účelyŘeditel závodu:Marek Peterka\n\n \nČasový harmonogram závo
 du a kategorie:\n\nPrezentace: 15.00 – 17.00 hod. dle kategorií, vždy min.3
 0 minut před startem\n\n\nKategorie budou rozdělení dle věku, nikoliv dle r
 očníku. \n\n\n15.50 - Děti do 3 let (odrážedla)                            
                       speciální trať \n\n\n16.00 - Děti do 4 let           
                                                             1 kolo; 1 kolo 
 (K;B)\n\n\n16.10 - Děti 5 – 6 let                                          
                             1 kolo; 1 kolo (K;B)\n\n\n16.20 - Chlapci a dív
 ky  7 – 8 let                                                1 kolo; 1 kolo
 ; 1 kolo (B;K;B)\n\n\n16.40 - Chlapci a dívky  9 – 10 let                  
                            1 kolo; 2 kola; 1 kolo (B;K;B)\n\n\n \n\n\n17.00
  – Vyhlášení výše uvedených kategorií\n\n\n \n\n\n17.35 - Chlapci a dívky  
 11 – 12 let                                             1 kola; 2 kola; 1 k
 olo (B;K;B)\n\n\n18.00 - Chlapci a dívky  13 – 15 let                      
                      2 kola; 3 kola; 1 kolo (B;K;B)\n\n\n \n\n\n18.30 – Vyh
 lášení výše uvedených kategorií\n\n\n \n\n\nČasový plán může být mírně upra
 ven!\n\n\n \nStartovné:       \n\n 50 Kč,- půjde na dobročinné účely, platb
 a na místě\n\n\nMOŽNOST ZAPŮJČENÍ KOLA ZDARMA\n Distance:\n\nBěh - V okolí 
 Děčínského zámku a Zámeckého parku. Zvlněný profil trati.\n\n\nMTB - Polní 
 a lesní cesty Zámeckého parku\n\n\nDistance dle věkových kategorií.\n Price
  money:\n\nvěcné ceny\n Parkování:\n\nParkoviště vedle zámeckého rybníku a 
 Labské Nábřeží (před Atlantikem)\n\n\n \nPravidla závodu:\n\nDle pravidel d
 uatlonu.\n\n\n \nZakladatelé akce: Marek Peterka a Jaroslav Hauzírek 2010, 
 Tomáš Slavata - Slavata tour
CONTACT:	http://www.decinsportfest.cz

DTSTAMP:20260425T190821Z
DTSTART:20210908T220000Z
DTEND:20210909T215959Z
RECURRENCE-ID:20210907T220000Z
SEQUENCE:0
TRANSP:OPAQUE
END:VEVENT
END:VCALENDAR