BEGIN:VCALENDAR
VERSION:2.0
PRODID:-//jEvents 2.0 for Joomla//EN
CALSCALE:GREGORIAN
METHOD:PUBLISH
BEGIN:VEVENT
UID:12f388fb00f259b5df5fe8db79b6b4db
CATEGORIES:Běh
CREATED:19700101T010000
SUMMARY:Mikulášovický triatlon 
LOCATION:Mikulášovice - zatopený lom
DESCRIPTION;ENCODING=QUOTED-PRINTABLE:<header class="entry-header"><h1 class="entry-title">Mikulášovický triatlon
  </h1></header><div class="entry-content"><div id="pl-316" class="panel-lay
 out"><div id="pg-316-0" class="panel-grid panel-no-style"><div id="pgc-316-
 0-0" class="panel-grid-cell"><div id="panel-316-0-0-0" class="so-panel widg
 et widget_black-studio-tinymce widget_black_studio_tinymce panel-first-chil
 d panel-last-child" data-index="0"><div class="textwidget"><h2><span>"Triat
 lon na ostří nože"</span></h2><p> </p><table><tbody><tr><td><strong>Termín 
 konání:</strong></td><td>25.6.2022</td></tr><tr><td><strong>Místo akce:</st
 rong></td><td>Mikulášovice - zatopený lom</td></tr><tr><td><strong>Start:</
 strong></td><td>11.00</td></tr><tr><td><strong>Koncept</strong></td><td>Ter
 énní triathlon – MTB kolo</td></tr><tr><td><strong>Startovné:</strong></td>
 <td>150 Kč, resp. 200 kč na místě, JUNIOŘI ZDARMA</td></tr><tr><td><strong>
 Ředitel závodu:</strong></td><td>Tomáš Česnek <a href="mailto:tomas.cesnek@
 scvk.cz">tomas.cesnek@scvk.cz</a></td></tr></tbody></table><p> </p><h3>Časo
 vý harmonogram závodu:                                                     
   </h3><p>Prezentace 10.00 – 10.45 hod.<br />Vyhlášení výsledků cca 14.00 h
 od                                                                   </p><p
 > </p><h3>Kategorie:</h3><p>Muži</p><p>Ženy</p><p>Junioři</p><h3> </h3><h3>
 Startovné:</h3><p>150 Kč – na účet <span class="Apple-style-span">260023422
 1/2010  Fio banka  do 15.6.  poté 200 kč na místě, </span>JUNIOŘI ZDARMA</p
 ><h3><span>POČET ÚČASTNÍKU OMEZEN NA 60 </span></h3><p> </p><h3>Distance:</
 h3><p>Plavání:  300 m (neopren povolen)</p><p>Kolo: 15 km horské kolo</p><p
 >Běh: 5 km </p><p> </p><h3>Price Money:</h3><p>Pro jednoho NEJLEPŠÍHO… NEJR
 YCHLEJŠÍHO… A NEJVĚTŠÍHO…  PŘEKVAPENÍ…</p><h3> </h3><h3>Parkování:</h3><p>U
  lomu  GPS 5O, 58', 32" N ,  14, 22', 11" E</p><h3> </h3><h3>Pravidla závod
 u:</h3><p>Dle pravidel Triatlonu</p><h4><span class="Apple-style-span">Vstu
 p do prostoru závodu se psi je přísně zakázán!</span> </h4><p> </p><h3>Zakl
 adatel akce: <span>Tomáš Česnek 2014</span></h3></div></div></div></div></d
 iv></div>
CONTACT:http://www.decinsportfest.cz
DTSTAMP:20260425T033309Z
DTSTART;VALUE=DATE:20200626
DTEND;VALUE=DATE:20200627
SEQUENCE:0
RRULE:FREQ=YEARLY;COUNT=10;INTERVAL=1;BYYEARDAY=-189
TRANSP:OPAQUE
END:VEVENT
BEGIN:VEVENT
UID:12f388fb00f259b5df5fe8db79b6b4db
CATEGORIES:Běh
CREATED:20191227T170908
SUMMARY:Mikulášovický triatlon 
LOCATION:Mikulášovice - zatopený lom
DESCRIPTION;ENCODING=QUOTED-PRINTABLE:<header class="entry-header"><h1 class="entry-title">Mikulášovický triatlon
  </h1></header><div class="entry-content"><div id="pl-316" class="panel-lay
 out"><div id="pg-316-0" class="panel-grid panel-no-style"><div id="pgc-316-
 0-0" class="panel-grid-cell"><div id="panel-316-0-0-0" class="so-panel widg
 et widget_black-studio-tinymce widget_black_studio_tinymce panel-first-chil
 d panel-last-child" data-index="0"><div class="textwidget"><h2><span>"Triat
 lon na ostří nože"</span></h2><p> </p><table><tbody><tr><td><strong>Termín 
 konání:</strong></td><td>25.6.2022</td></tr><tr><td><strong>Místo akce:</st
 rong></td><td>Mikulášovice - zatopený lom</td></tr><tr><td><strong>Start:</
 strong></td><td>11.00</td></tr><tr><td><strong>Koncept</strong></td><td>Ter
 énní triathlon – MTB kolo</td></tr><tr><td><strong>Startovné:</strong></td>
 <td>150 Kč, resp. 200 kč na místě, JUNIOŘI ZDARMA</td></tr><tr><td><strong>
 Ředitel závodu:</strong></td><td>Tomáš Česnek <span id="cloak5eedf86fe69f05
 960724395cd0e9e674">Tato e-mailová adresa je chráněna před spamboty. Pro je
 jí zobrazení musíte mít povolen Javascript.</span><script type='text/javasc
 ript'>
				document.getElementById('cloak5eedf86fe69f05960724395cd0e9e674')
 .innerHTML = '';
				var prefix = '&#109;a' + 'i&#108;' + '&#116;o';
				va
 r path = 'hr' + 'ef' + '=';
				var addy5eedf86fe69f05960724395cd0e9e674 = 
 't&#111;m&#97;s.c&#101;sn&#101;k' + '&#64;';
				addy5eedf86fe69f0596072439
 5cd0e9e674 = addy5eedf86fe69f05960724395cd0e9e674 + 'scvk' + '&#46;' + 'cz'
 ;
				var addy_text5eedf86fe69f05960724395cd0e9e674 = 't&#111;m&#97;s.c&#10
 1;sn&#101;k' + '&#64;' + 'scvk' + '&#46;' + 'cz';document.getElementById('c
 loak5eedf86fe69f05960724395cd0e9e674').innerHTML += '<a ' + path + '\'' + p
 refix + ':' + addy5eedf86fe69f05960724395cd0e9e674 + '\'>'+addy_text5eedf86
 fe69f05960724395cd0e9e674+'<\/a>';
		</script></td></tr></tbody></table><p>
  </p><h3>Časový harmonogram závodu:                                        
                </h3><p>Prezentace 10.00 – 10.45 hod.<br />Vyhlášení výsledk
 ů cca 14.00 hod                                                            
        </p><p> </p><h3>Kategorie:</h3><p>Muži</p><p>Ženy</p><p>Junioři</p><
 h3> </h3><h3>Startovné:</h3><p>150 Kč – na účet <span class="Apple-style-sp
 an">2600234221/2010  Fio banka  do 15.6.  poté 200 kč na místě, </span>JUNI
 OŘI ZDARMA</p><h3><span>POČET ÚČASTNÍKU OMEZEN NA 60 </span></h3><p> </p><h
 3>Distance:</h3><p>Plavání:  300 m (neopren povolen)</p><p>Kolo: 15 km hors
 ké kolo</p><p>Běh: 5 km </p><p> </p><h3>Price Money:</h3><p>Pro jednoho NEJ
 LEPŠÍHO… NEJRYCHLEJŠÍHO… A NEJVĚTŠÍHO…  PŘEKVAPENÍ…</p><h3> </h3><h3>Parkov
 ání:</h3><p>U lomu  GPS 5O, 58', 32" N ,  14, 22', 11" E</p><h3> </h3><h3>P
 ravidla závodu:</h3><p>Dle pravidel Triatlonu</p><h4><span class="Apple-sty
 le-span">Vstup do prostoru závodu se psi je přísně zakázán!</span> </h4><p>
  </p><h3>Zakladatel akce: <span>Tomáš Česnek 2014</span></h3></div></div></
 div></div></div></div>
CONTACT:http://www.decinsportfest.cz

DTSTAMP:20260425T033309Z
DTSTART:20220624T220000Z
DTEND:20220625T215959Z
RECURRENCE-ID:20220625T220000Z
SEQUENCE:0
TRANSP:OPAQUE
END:VEVENT
END:VCALENDAR