BEGIN:VCALENDAR
VERSION:2.0
PRODID:-//jEvents 2.0 for Joomla//EN
CALSCALE:GREGORIAN
METHOD:PUBLISH
BEGIN:VEVENT
UID:622672d6638301ce4dacda5e3ca5f36f
CATEGORIES:Triatlon
CREATED:20210118T082414
SUMMARY:Děčínský železný knedlík
LOCATION:Děčín Labské nábřeží
DESCRIPTION;ENCODING=QUOTED-PRINTABLE:\n\nTriatlon pro veřejnost včetně dětí\n\n\ninfo na:http://www.decinsportfe
 st.cz\n\n\n\n
CONTACT:http://www.decinsportfest.cz
DTSTAMP:20260425T225842Z
DTSTART:20210807T060000Z
DTEND:20210807T150000Z
SEQUENCE:0
TRANSP:OPAQUE
END:VEVENT
END:VCALENDAR