BEGIN:VCALENDAR
VERSION:2.0
PRODID:-//jEvents 2.0 for Joomla//EN
CALSCALE:GREGORIAN
METHOD:PUBLISH
BEGIN:VEVENT
UID:57855470e7fd5c63562e5ba66e64bcb8
CATEGORIES:Triatlon
CREATED:20210118T081855
SUMMARY:Děčínský železný muž - memoriál Tomu Jiráně
LOCATION:Děčín a okolí
DESCRIPTION;ENCODING=QUOTED-PRINTABLE:\n\nDěčínský železný muž - memoriál Tomu Jiráně\n\n\nklasický dlouhý triatl
 on 3,8km plavání, 180km cyklistika a 42km běh\n\n\ninfo na:http://www.decin
 sportfest.cz\n\n\n\n
CONTACT:http://www.decinsportfest.cz
DTSTAMP:20260425T155427Z
DTSTART:20210515T060000Z
DTEND:20210515T150000Z
SEQUENCE:0
TRANSP:OPAQUE
END:VEVENT
END:VCALENDAR