BEGIN:VCALENDAR
VERSION:2.0
PRODID:-//jEvents 2.0 for Joomla//EN
CALSCALE:GREGORIAN
METHOD:PUBLISH
BEGIN:VEVENT
UID:041dee8c086d188d9201eb0fdf847771
CATEGORIES:Běh
CREATED:20200322T102552
SUMMARY:VERVAL RUN
LOCATION:Verneřice
DESCRIPTION;ENCODING=QUOTED-PRINTABLE:Cílem projektu je zorganizovat terénní běžecký závod s překážkami na trase,
  kde mohou účastníci díky svým dovednostem zdolávat připravené vzdálenosti,
  ukázat sportovní nadání a vztah ke zdravé soutěživosti.\n\n\n\nKategorie\n
 \n\nVzdálenost\n\n\nTyp\n1. Školní věk\n\n\n1500m\n\n\nCca 6 překážek\n2. M
 ládež\n\n\ncca 6000m\n\n\nCca 20 překážek/ poloviční tresty\n3. Studenti a 
 dospělí\n\n\ncca 6000m\n\n\nCca 20 překážek/ plné tresty\n
CONTACT:604614081
X-EXTRAINFO:Více info na FB\nhttps://www.facebook.com/events/484647768860553/
DTSTAMP:20260425T123129Z
DTSTART;VALUE=DATE:20210619
DTEND;VALUE=DATE:20210620
SEQUENCE:0
TRANSP:OPAQUE
END:VEVENT
END:VCALENDAR