BEGIN:VCALENDAR
VERSION:2.0
PRODID:-//jEvents 2.0 for Joomla//EN
CALSCALE:GREGORIAN
METHOD:PUBLISH
BEGIN:VEVENT
UID:653884f7e6de27a5796d432a07feb33d
CATEGORIES:Atletika
CREATED:20260416T110019
SUMMARY:Zahajovací závody
LOCATION:Děčín atletický stadion za Hl. vlak. nádražím v ASK
DESCRIPTION;ENCODING=QUOTED-PRINTABLE:<p>Největší sportovní akce v roce 2026 v Děčíně. Žijeme atletikou, žijte s 
 námi!</p><p>Již tento pátek 24.dubna 2026 se koná běh na 5km na dráze. Tent
 o běh je pro širokou veřejnost.</p>
CONTACT:702 873 951
DTSTAMP:20260424T204400Z
DTSTART:20260424T060000Z
DTEND:20260424T150000Z
SEQUENCE:0
TRANSP:OPAQUE
END:VEVENT
END:VCALENDAR