BEGIN:VCALENDAR
VERSION:2.0
PRODID:-//jEvents 2.0 for Joomla//EN
CALSCALE:GREGORIAN
METHOD:PUBLISH
BEGIN:VEVENT
UID:06d5957578840f11c632849a85b78015
CATEGORIES:Streetball
CREATED:20260328T113638
SUMMARY:Labský streetballový pohár 2026
LOCATION:Děčín, Smetanovo nábřeží (parkoviště pod knihovnou)
DESCRIPTION;ENCODING=QUOTED-PRINTABLE:<div class="jev_evdt_desc"><p>V sobotu 6. června 2026 od 12 hodin se v Děčí
 ně na Smetanově nábřeží na parkovišti pod městskou knihovnou uskuteční již 
 31. ročník kultovního Labského streetballového poháru. Buď i Ty součástí té
 hle ojedinělý show, která každoročně na sever Čech přiláká mnoho ballerů a 
 ballerek z různých koutů republiky.</p><p>Kromě tradičních zápasů se můžeš 
 těšit i na individuální soutěže ve smečích a trojkách a součástí turnaje bu
 de i bohatý doprovodný program.</p></div>
CONTACT:E-mail: Tato e-mailová adresa je chráněna před spamboty. Pro její zobrazení musíte mít povolen Javascript.
				document.getElementById('cloak330c89e23b1dbdf1062a3b0f88222530').innerHTML = '';
				var prefix = '&#109;a' + 'i&#108;' + '&#116;o';
				var path = 'hr' + 'ef' + '=';
				var addy330c89e23b1dbdf1062a3b0f88222530 = '&#105;nf&#111;' + '&#64;';
				addy330c89e23b1dbdf1062a3b0f88222530 = addy330c89e23b1dbdf1062a3b0f88222530 + 'str&#101;&#101;tb&#97;ll-m&#97;n&#105;&#97;' + '&#46;' + 'cz';
				var addy_text330c89e23b1dbdf1062a3b0f88222530 = '&#105;nf&#111;' + '&#64;' + 'str&#101;&#101;tb&#97;ll-m&#97;n&#105;&#97;' + '&#46;' + 'cz';document.getElementById('cloak330c89e23b1dbdf1062a3b0f88222530').innerHTML += ''+addy_text330c89e23b1dbdf1062a3b0f88222530+'';
		
X-EXTRAINFO:Registrace na turnaj jsou již spuštěny:\nhttps://streetballmania.cz/registr
 ace
DTSTAMP:20260425T014620Z
DTSTART:20260606T100000Z
DTEND:20260606T160000Z
SEQUENCE:0
TRANSP:OPAQUE
END:VEVENT
END:VCALENDAR