BEGIN:VCALENDAR
VERSION:2.0
PRODID:-//jEvents 2.0 for Joomla//EN
CALSCALE:GREGORIAN
METHOD:PUBLISH
BEGIN:VEVENT
UID:f872591c01b2729fe18b1e32818a63ae
CATEGORIES:VOLNÝ ČÁS
CREATED:20260328T113345
SUMMARY:Adrenalin Challenge Kids 2026
LOCATION:Labské nábřeží a přilehlé okolí
DESCRIPTION;ENCODING=QUOTED-PRINTABLE:<div class="jev_evdt_desc">V sobotu 6. června 2026 se na Labském nábřeží a 
 v přilehlém okolí uskuteční v pořadí již 11. ročník výzvy pro malé bombarďá
 ky Adrenalin Challenge Kids. Akce je určena pro děti od 3 do 11 let věku (h
 orní věkovou hranici ovšem necháme na vás) a kapacita je 220 míst.<div clas
 s="jev_evdt_desc"><p>Dorazivší čeká pestrá a zajímavá směsice disciplín, ka
 ždý si přijde na své, to můžeme slíbit.</p><p>Nejedná se o závod, nýbrž o t
 o, aby si děti užily parádní den po boku svých (skoro)vrstevníků. Přihlášky
  na akci jsou již spuštěny.</p></div></div>
CONTACT:E-mail: Tato e-mailová adresa je chráněna před spamboty. Pro její zobrazení musíte mít povolen Javascript.
				document.getElementById('cloaka0766c3afbf08155e8bb08668e2e04bc').innerHTML = '';
				var prefix = '&#109;a' + 'i&#108;' + '&#116;o';
				var path = 'hr' + 'ef' + '=';
				var addya0766c3afbf08155e8bb08668e2e04bc = '&#105;nf&#111;' + '&#64;';
				addya0766c3afbf08155e8bb08668e2e04bc = addya0766c3afbf08155e8bb08668e2e04bc + '&#97;dr&#101;n&#97;l&#105;nch&#97;ll&#101;ng&#101;' + '&#46;' + 'cz';
				var addy_texta0766c3afbf08155e8bb08668e2e04bc = '&#105;nf&#111;' + '&#64;' + '&#97;dr&#101;n&#97;l&#105;nch&#97;ll&#101;ng&#101;' + '&#46;' + 'cz';document.getElementById('cloaka0766c3afbf08155e8bb08668e2e04bc').innerHTML += ''+addy_texta0766c3afbf08155e8bb08668e2e04bc+'';
		
X-EXTRAINFO:Přihlášky na letošní ročník jsou k dispozici na našem webu:\nhttps://www.ad
 renalinchallenge.cz/cs/ackids-registrace
DTSTAMP:20260425T014615Z
DTSTART:20260606T080000Z
DTEND:20260606T160000Z
SEQUENCE:0
TRANSP:OPAQUE
END:VEVENT
END:VCALENDAR