BEGIN:VCALENDAR
VERSION:2.0
PRODID:-//jEvents 2.0 for Joomla//EN
CALSCALE:GREGORIAN
METHOD:PUBLISH
BEGIN:VEVENT
UID:e47ac879c202333b6f5eb82d171341d3
CATEGORIES:Stolní tenis
CREATED:19700101T010000
SUMMARY:Velikonoční turnaj ve stolním tenisu
LOCATION:Hala SKST Děčín, ulice Práce 19 - vedle tenisových kurtů za Hl. vlakovým ná
 dražím
DESCRIPTION;ENCODING=QUOTED-PRINTABLE:<p>SKST Děčín pořádá v sobotu 4. dubna 2026 velikonoční turnaj pro neregist
 rované hráče.</p>
CONTACT:775 158 767
DTSTAMP:20260425T023831Z
DTSTART:20260404T060000Z
DTEND:20260404T140000Z
SEQUENCE:0
RRULE:FREQ=DAILY;UNTIL=20260405T000000Z;INTERVAL=1
TRANSP:OPAQUE
END:VEVENT
END:VCALENDAR