BEGIN:VCALENDAR
VERSION:2.0
PRODID:-//jEvents 2.0 for Joomla//EN
CALSCALE:GREGORIAN
METHOD:PUBLISH
BEGIN:VEVENT
UID:4857923683159d05c82f78c5debb116b
CATEGORIES:Běh
CREATED:20260309T132936
SUMMARY:Svatováclavský běh TyretoRUN 
LOCATION:Smetanovo nábřeží
DESCRIPTION;ENCODING=QUOTED-PRINTABLE:<p>Charitativní běh na kdy jde 100% startovného na podporu Domova sv. Josef
 a, kde se starají o lidi s roztroušenou sklerozou. <br /><br />Závod je roz
 dělen do pěti základních kategorií: klasické běhy na 5, 12 a 21 km na konec
  pak dětský a rodinný běh. Podtitulem našeho závodu jsou <i>děčínské vyhlíd
 ky</i>. Závod je tak atraktivním nejen díky stoupáním, ale i díky neskutečn
 ým výhledům na Labský kaňon. </p><p></p><p>Více na <a href="http://www.tyre
 torun.cz">www.tyretorun.cz</a> </p>
DTSTAMP:20260425T023831Z
DTSTART:20261010T070000Z
DTEND:20261010T150000Z
SEQUENCE:0
TRANSP:OPAQUE
END:VEVENT
END:VCALENDAR