BEGIN:VCALENDAR
VERSION:2.0
PRODID:-//jEvents 2.0 for Joomla//EN
CALSCALE:GREGORIAN
METHOD:PUBLISH
BEGIN:VEVENT
UID:992b03de3315cdef7341072b493ea0c7
CATEGORIES:Běh
CREATED:20260309T132552
SUMMARY:Sokol Raptor podzim 2026
LOCATION:Smetanovo nábřeží
DESCRIPTION;ENCODING=QUOTED-PRINTABLE:<div class="jev_evdt_desc"><p><strong>19.9. 2025</strong> proběne <strong>n
 a Smetanovo nábřeží </strong>6.ročník <strong>běžeckého překážkového závodu
 </strong> pro děti, dospělé. Můžete se těšit na překážky přírodního, silové
 ho a dovednostního charakteru. Počínaje během, přes střelbu až po šplh. <br
  /> Vyzkoušejte unikátní kombinaci běhu s překonáním více než 16ti náročnýc
 h překážek v atraktivní<br /> lokalitě. Trať pro vás připravují zkušení záv
 odníci <strong>SPARTAN Děčín.</strong></p>více na: <a href="http://www.soko
 l-raptor.cz">www.sokol-raptor.cz</a> </div><div class="jev_evdt_desc"></div
 ><div class="jev_evdt_location"><strong>Místo konání: </strong> <strong>Sme
 tanovo nábřeží Děčín</strong></div>
DTSTAMP:20260425T023831Z
DTSTART:20260919T070000Z
DTEND:20260919T150000Z
SEQUENCE:0
TRANSP:OPAQUE
END:VEVENT
END:VCALENDAR