BEGIN:VCALENDAR
VERSION:2.0
PRODID:-//jEvents 2.0 for Joomla//EN
CALSCALE:GREGORIAN
METHOD:PUBLISH
BEGIN:VEVENT
UID:33d7027d9ed70089a31d61d4481df31f
CATEGORIES:Běh
CREATED:20260309T132354
SUMMARY:Sokol Raptor Jaro 2026
LOCATION:Krásný Studenec
DESCRIPTION;ENCODING=QUOTED-PRINTABLE:<div class="jev_evdt_desc"><p><strong>21.3. 2025</strong> proběne <strong>v
  Krásném Studenci </strong>6.ročník <strong>běžeckého překážkového závodu</
 strong> pro děti, dospělé. Můžete se těšit na překážky přírodního, silového
  a dovednostního charakteru. Počínaje během, přes střelbu až po šplh. <br /
 > Vyzkoušejte unikátní kombinaci běhu s překonáním více než 16ti náročných 
 překážek v atraktivní<br /> lokalitě. Trať pro vás připravují zkušení závod
 níci <strong>SPARTAN Děčín.</strong></p>více na: <a href="http://www.sokol-
 raptor.cz">www.sokol-raptor.cz</a> </div><div class="jev_evdt_desc"></div><
 div class="jev_evdt_location"><strong>Místo konání: </strong> Krásný Studen
 ec Děčín</div>
DTSTAMP:20260425T023832Z
DTSTART:20260321T080000Z
DTEND:20260321T160000Z
SEQUENCE:0
TRANSP:OPAQUE
END:VEVENT
END:VCALENDAR