BEGIN:VCALENDAR
VERSION:2.0
PRODID:-//jEvents 2.0 for Joomla//EN
CALSCALE:GREGORIAN
METHOD:PUBLISH
BEGIN:VEVENT
UID:0641ae660793e829039c40c656802a66
CATEGORIES:Běh
CREATED:20260114T120503
SUMMARY:Děčín RUNFEST 2026
LOCATION:Děčín – Mariánská louka - Labská cyklostezka 
DESCRIPTION;ENCODING=QUOTED-PRINTABLE:Termín konání:18.dubna 2026           Místo akce:Děčín – Mariánská louka - 
 Labská cyklostezka            Časový harmonogram :          08:30-12:55Prez
 entace jednotlivých startů(Nejpozději vždy 20 minut před daným startem !!!)
   09:00 Start NW půlmaraton      10:00 Start Děčínský půlmaraton      10:10
  Start běh na 5 km       12:30 Vyhlášení výsledků půlmaraton a 5km     13:0
 0 Start rodinný běhAť si rodiče užijí trochu sportování se svými ratolestmi
  společně  .  13:15 Start dětský závod - 200 m      13:25 Start dětský závo
 d - 750 m      13:40 Start dětský závod - 1500 m      14:00 Vyhlášení výsle
 dků dětských běhů                         Kategorie:    PůlmaratonMuži 1 (M
 1), ženy 1 (Z1) 16 – 39 letroč.1987-2010     Muži 3 (M3), ženy 3 (Z3) 40 – 
 59 letroč.1965-1986     Muži 5 (M5), ženy 5 (Z5) 60 a více letroč.1964 a st
 .     Štafeta dvojic (předávka na otočce) (min. roč.nar. 2010)     NW muži,
  NW ženy (min. roč.nar. 2010)                Běh na 5 kmMuži 1 (M1), ženy 1
  (Z1) 16 – 39 letroč.1987-2010     Muži 3 (M3), ženy 3 (Z3) 40 – 59 letroč.
 1965-1986     Muži 5 (M5), ženy 5 (Z5) 60 a + letroč.1964 a st.            
   Rodinný běhTým rodiny přihlášený pod jedním jménem, 2 - 4 člené týmy     
           Dětské běhy200 mChlapci a dívky ročníků  narození 2020-25      75
 0 mChlapci a dívky ročníků  narození 2013-19      1500 mChlapci a dívky roč
 níků  narození 2009-12                                              Startov
 né: - základní všichni on-line přihlášení a s uhrazeným startovným do 31.12
 .2025    - zvýšené přihlášení od 1.1.2026 do 30.3.2026 : a  na místě dle mo
 žností pořadatele     Půlmaratonzákladní - 499,- Kčzvýšené - 600,-Kč     Št
 afeta základní - 699,- Kčzvýšené - 800,-Kč     Běh na 5 kmzákladní - 149,- 
 Kčzvýšené - 200,-Kč     Rodinný běhzákladní - 120,- Kčzvýšené - 200,- Kč za
  rodinu    Dětské běhyzákladní - 40,- Kčzvýšené - 70,- Kč     U rodinného a
  dětských běhů půjde celé startovné na dobročinné účely !!!   - zvýšené při
 hlášení od 1.4.2026 do 18.4.2026 a  na místě dle možností pořadatele     Pů
 lmaraton  zvýšené - 700,-Kč     Štafeta   zvýšené - 900,-Kč     Běh na 5 km
   zvýšené - 300,-Kč     Rodinný běh  zvýšené - 200,- Kč za rodinu    Dětské
  běhy  zvýšené - 70,- Kč Přihlášky : On-line přes přihláškový systém KONKOR
 DIA Děčín - RACE team do 17.4.2026 00:00   Platba podle pokynů v přihlašova
 cím e-mailu musí být provedena do 3 dnů od přihlášení jinak  bude přihláška
  zrušena. Aktualizace plateb jednou týdně ve startovní listině na webu závo
 du.  Storno možno do 1.4.2026, po tomto termínu možnost pouze převedení na 
 jiného závodníka.           Ceny : Hlavní závod Děčínský půlmaraton má "Pri
 ze money" v celkovém pořadí mužů a žen    1.místo - 1.000,-Kč, 2.místo - 50
 0,-Kč a 3.místo - 300,-Kč.     Jednotlivé kategorie první tři diplom a drob
 né ceny od partnerů závodu.    Účastnické medaile pro všichny závodníky půl
 maratronu.     Běh na 5 km a dětské běhy - první tři v jednotlivých kategor
 iích diplom     a drobné ceny od partnerů závodu. Účastnické medaile pro vš
 ichny závodníky.   Rodinný běh - drobné ceny od partnerů závodu pro všechny
  účastníky.             Občerstvení :Hlavní závod - cca 5,5 km, 10,5 km, 15
 ,5 km, 18,3 km a cíl - voda, iontové nápoje, ovoce, houbičky.  Ostatní závo
 dy čaj, voda, sušenky, ovoce v cíli.               Tratě : Děčínský půlmara
 ton - Labská cyklostezka a Mariánská louka - rovinatý asfaltový povrch (95%
 ).  Běh na 5 km - městský park na Mariánské louce a Labská cyklostezka (50%
  - 50%).   Dětské běhy a rodinný běh  - městský park na Mariánské louce.   
            Pravidla závodů :Hlavní závod a běh na 5 km podle základních pra
 videl atletiky, měřeno RFID čipy.    Dětské běhy a rodinný běh měřeno ručně
 .                Zdravotní zabezpečení :ČČK Děčín                 Pojištění
  : Závodníci běží na vlastní nebezpečí a náklady               Parkování :P
 arkoviště před městskou knihovnou, u zámeckého rybníku , před Kempem Děčín.
             Ubytování:www.kocanda-decin.cz,   www.kempdecin.cz             
   Kontakt : Ředitel závodu:Luboš Přibyl  420 725 721 344    Hlavní organizá
 tor :KONKORDIA Děčín z.s.Tato e-mailová adresa je chráněna před spamboty. P
 ro její zobrazení musíte mít povolen Javascript.
				document.getElementByI
 d('cloakb22f862278b12224c3dc128378e8dafc').innerHTML = '';
				var prefix =
  '&#109;a' + 'i&#108;' + '&#116;o';
				var path = 'hr' + 'ef' + '=';
				v
 ar addyb22f862278b12224c3dc128378e8dafc = 'k&#111;nk&#111;rd&#105;&#97;dc' 
 + '&#64;';
				addyb22f862278b12224c3dc128378e8dafc = addyb22f862278b12224c
 3dc128378e8dafc + 'gm&#97;&#105;l' + '&#46;' + 'c&#111;m';
				var addy_tex
 tb22f862278b12224c3dc128378e8dafc = 'k&#111;nk&#111;rd&#105;&#97;dc' + '&#6
 4;' + 'gm&#97;&#105;l' + '&#46;' + 'c&#111;m';document.getElementById('cloa
 kb22f862278b12224c3dc128378e8dafc').innerHTML += ''+addy_textb22f862278b122
 24c3dc128378e8dafc+'';
		   Zakladatel závodu:Marek Peterka  2015          
                           
CONTACT:Tato e-mailová adresa je chráněna před spamboty. Pro její zobrazení musíte mít povolen Javascript.
				document.getElementById('cloak7a975093ec13b5de8502677c348e3132').innerHTML = '';
				var prefix = '&#109;a' + 'i&#108;' + '&#116;o';
				var path = 'hr' + 'ef' + '=';
				var addy7a975093ec13b5de8502677c348e3132 = 'k&#111;nk&#111;rd&#105;&#97;dc' + '&#64;';
				addy7a975093ec13b5de8502677c348e3132 = addy7a975093ec13b5de8502677c348e3132 + 'gm&#97;&#105;l' + '&#46;' + 'c&#111;m';
				var addy_text7a975093ec13b5de8502677c348e3132 = 'k&#111;nk&#111;rd&#105;&#97;dc' + '&#64;' + 'gm&#97;&#105;l' + '&#46;' + 'c&#111;m';document.getElementById('cloak7a975093ec13b5de8502677c348e3132').innerHTML += ''+addy_text7a975093ec13b5de8502677c348e3132+'';
		
DTSTAMP:20260424T232414Z
DTSTART:20260418T070000Z
DTEND:20260418T130000Z
SEQUENCE:0
TRANSP:OPAQUE
END:VEVENT
END:VCALENDAR