BEGIN:VCALENDAR
VERSION:2.0
PRODID:-//jEvents 2.0 for Joomla//EN
CALSCALE:GREGORIAN
METHOD:PUBLISH
BEGIN:VEVENT
UID:d1a3ef6d55eae9ca4774960086a0f24d
CATEGORIES:Běh
CREATED:20260114T114627
SUMMARY:Okruh Maxičkami
LOCATION:Děčín – Maxičky – start/cíl – za hotelem (50.8067106N, 14.1833831E)
DESCRIPTION;ENCODING=QUOTED-PRINTABLE:\n\nOKRUH Maxičkami\n\n\n10.ročník\n\n\nTermín:               pátek 13.břez
 na 2026 v 17:00\n \n Místo:                 Děčín – Maxičky – start/cíl – z
 a hotelem (50.8067106N, 14.1833831E)\n \n Trať:                     6,0 km 
 lesní okruh, povrch střídavě lesní cesty a pěšiny a silnice\n \n Přihlášky:
            on-line za zvýhodněné startovné – www.raceteam.cz  nebo na místě
  nejpozději 15 minut před                           startem\n \n Startovné:
           30,-Kč přihláška předem do 13.3.2026 15:00, na místě 50,-Kč\n \n 
 Prezentace:       od 16:00 v prostoru startu a cíle na parkovišti za bývalý
 m hotelem Maxičky, poslední                      prezentace 15 minut starte
 m\n \n Ceny:                   diplomy a věcné ceny pro první tři závodníky
  v každé kategorii\n \n Kategorie:          muži a ženy do 49 let, muži a ž
 eny od 50 let\n \n Občerstvení:     v cíli čaj a sušenky, doporučujeme vlas
 tní kelímek nebo hrneček\n\n\nPojištění:            závodníci běží na vlast
 ní nebezpečí a náklady\n \n Informace:         Tato e-mailová adresa je chr
 áněna před spamboty. Pro její zobrazení musíte mít povolen Javascript.
				
 document.getElementById('cloak593862c08ea4fa5ef36c0f9ca8e75629').innerHTML 
 = '';
				var prefix = '&#109;a' + 'i&#108;' + '&#116;o';
				var path = 'h
 r' + 'ef' + '=';
				var addy593862c08ea4fa5ef36c0f9ca8e75629 = 'k&#111;nk&
 #111;rd&#105;&#97;dc' + '&#64;';
				addy593862c08ea4fa5ef36c0f9ca8e75629 =
  addy593862c08ea4fa5ef36c0f9ca8e75629 + 'gm&#97;&#105;l' + '&#46;' + 'c&#11
 1;m';
				var addy_text593862c08ea4fa5ef36c0f9ca8e75629 = 'k&#111;nk&#111;r
 d&#105;&#97;dc' + '&#64;' + 'gm&#97;&#105;l' + '&#46;' + 'c&#111;m';documen
 t.getElementById('cloak593862c08ea4fa5ef36c0f9ca8e75629').innerHTML += ''+a
 ddy_text593862c08ea4fa5ef36c0f9ca8e75629+'';
		\n\n\n \n\n\n \n
CONTACT:Tato e-mailová adresa je chráněna před spamboty. Pro její zobrazení musíte mít povolen Javascript.
				document.getElementById('cloak0dc538594e84d765d74ec3c53a2924f6').innerHTML = '';
				var prefix = '&#109;a' + 'i&#108;' + '&#116;o';
				var path = 'hr' + 'ef' + '=';
				var addy0dc538594e84d765d74ec3c53a2924f6 = 'k&#111;nk&#111;rd&#105;&#97;dc' + '&#64;';
				addy0dc538594e84d765d74ec3c53a2924f6 = addy0dc538594e84d765d74ec3c53a2924f6 + 'gm&#97;&#105;l' + '&#46;' + 'c&#111;m';
				var addy_text0dc538594e84d765d74ec3c53a2924f6 = 'k&#111;nk&#111;rd&#105;&#97;dc' + '&#64;' + 'gm&#97;&#105;l' + '&#46;' + 'c&#111;m';document.getElementById('cloak0dc538594e84d765d74ec3c53a2924f6').innerHTML += ''+addy_text0dc538594e84d765d74ec3c53a2924f6+'';
		
DTSTAMP:20260425T023834Z
DTSTART:20260313T160000Z
DTEND:20260313T170000Z
SEQUENCE:0
TRANSP:OPAQUE
END:VEVENT
END:VCALENDAR