BEGIN:VCALENDAR
VERSION:2.0
PRODID:-//jEvents 2.0 for Joomla//EN
CALSCALE:GREGORIAN
METHOD:PUBLISH
BEGIN:VEVENT
UID:f154998844f155acf9691255f4f5737b
CATEGORIES:Stolní tenis
CREATED:20250929T232034
SUMMARY:Stolní tenis - 1. liga ženy
LOCATION:Hala SKST Děčín, ulice Práce 1824/19A
DESCRIPTION;ENCODING=QUOTED-PRINTABLE:\n\nUtkání 1 ligy žen SKST Děčín A - AC Sparta B\n
DTSTAMP:20260425T113637Z
DTSTART:20260207T130000Z
DTEND:20260207T150000Z
SEQUENCE:0
TRANSP:OPAQUE
END:VEVENT
END:VCALENDAR