BEGIN:VCALENDAR
VERSION:2.0
PRODID:-//jEvents 2.0 for Joomla//EN
CALSCALE:GREGORIAN
METHOD:PUBLISH
BEGIN:VEVENT
UID:9f3ab64b84004e42ad61a6ac8b41ac85
CATEGORIES:Futsal
CREATED:20230403T170348
SUMMARY:Okresní futsalové soutěže
LOCATION:hřiště TJ Slavoj Děčín
DESCRIPTION;ENCODING=QUOTED-PRINTABLE:
DTSTAMP:20260425T161501Z
DTSTART:20230529T163000Z
DTEND:20230529T184000Z
SEQUENCE:0
TRANSP:OPAQUE
END:VEVENT
END:VCALENDAR