BEGIN:VCALENDAR
VERSION:2.0
PRODID:-//jEvents 2.0 for Joomla//EN
CALSCALE:GREGORIAN
METHOD:PUBLISH
BEGIN:VEVENT
UID:1f937f88ea0a291c2c8d1a225e8c2b15
CATEGORIES:Futsal
CREATED:20230403T170119
SUMMARY:Okresní futsalové soutěže
LOCATION:hřiště TJ Slavoj Děčín
DESCRIPTION;ENCODING=QUOTED-PRINTABLE:
DTSTAMP:20260426T033825Z
DTSTART:20230509T163000Z
DTEND:20230509T194000Z
SEQUENCE:0
TRANSP:OPAQUE
END:VEVENT
END:VCALENDAR