BEGIN:VCALENDAR
VERSION:2.0
PRODID:-//jEvents 2.0 for Joomla//EN
CALSCALE:GREGORIAN
METHOD:PUBLISH
BEGIN:VEVENT
UID:7031816faf8203bc874b607f94b0770f
CATEGORIES:Futsal
CREATED:20230403T170022
SUMMARY:Okresní futsalové soutěže
LOCATION:hřiště TJ Slavoj Děčín
DESCRIPTION;ENCODING=QUOTED-PRINTABLE:
DTSTAMP:20260425T144024Z
DTSTART:20230502T163000Z
DTEND:20230502T184000Z
SEQUENCE:0
TRANSP:OPAQUE
END:VEVENT
END:VCALENDAR