BEGIN:VCALENDAR
VERSION:2.0
PRODID:-//jEvents 2.0 for Joomla//EN
CALSCALE:GREGORIAN
METHOD:PUBLISH
BEGIN:VEVENT
UID:4e837cc78df867779cf53c894f670d61
CATEGORIES:Futsal
CREATED:20230403T165212
SUMMARY:Okresní futsalové soutěže
LOCATION:hřiště TJ Slavoj Děčín
DESCRIPTION;ENCODING=QUOTED-PRINTABLE:
DTSTAMP:20260425T161455Z
DTSTART:20230531T173000Z
DTEND:20230531T184000Z
SEQUENCE:0
TRANSP:OPAQUE
END:VEVENT
END:VCALENDAR