BEGIN:VCALENDAR
VERSION:2.0
PRODID:-//jEvents 2.0 for Joomla//EN
CALSCALE:GREGORIAN
METHOD:PUBLISH
BEGIN:VEVENT
UID:76ec8e8bc2eea46c939c5a4c0867466a
CATEGORIES:Futsal
CREATED:20230403T165100
SUMMARY:Okresní futsalové soutěže
LOCATION:hřiště Kocanda
DESCRIPTION;ENCODING=QUOTED-PRINTABLE:
DTSTAMP:20260425T161532Z
DTSTART:20230524T183000Z
DTEND:20230524T194000Z
SEQUENCE:0
TRANSP:OPAQUE
END:VEVENT
END:VCALENDAR