BEGIN:VCALENDAR
VERSION:2.0
PRODID:-//jEvents 2.0 for Joomla//EN
CALSCALE:GREGORIAN
METHOD:PUBLISH
BEGIN:VEVENT
UID:03e2df16371781cd81377a43334a98f6
CATEGORIES:Futsal
CREATED:20230403T164856
SUMMARY:Okresní futsalové soutěže
LOCATION:hřiště TJ Slavoj Děčín
DESCRIPTION;ENCODING=QUOTED-PRINTABLE:
DTSTAMP:20260425T161500Z
DTSTART:20230517T173000Z
DTEND:20230517T184000Z
SEQUENCE:0
TRANSP:OPAQUE
END:VEVENT
END:VCALENDAR