BEGIN:VCALENDAR
VERSION:2.0
PRODID:-//jEvents 2.0 for Joomla//EN
CALSCALE:GREGORIAN
METHOD:PUBLISH
BEGIN:VEVENT
UID:a12a1daf9665186043f3df9d43af40d6
CATEGORIES:Fotbal
CREATED:20230403T164750
SUMMARY:Okresní futsalové soutěže
LOCATION:hřiště Kocanda
DESCRIPTION;ENCODING=QUOTED-PRINTABLE:
DTSTAMP:20260425T144039Z
DTSTART:20230510T183000Z
DTEND:20230510T194000Z
SEQUENCE:0
TRANSP:OPAQUE
END:VEVENT
END:VCALENDAR