BEGIN:VCALENDAR
VERSION:2.0
PRODID:-//jEvents 2.0 for Joomla//EN
CALSCALE:GREGORIAN
METHOD:PUBLISH
BEGIN:VEVENT
UID:58a47c24475cf5483315e5cc11f996ed
CATEGORIES:Futsal
CREATED:19700101T010000
SUMMARY:Okresní futsalové soutěže
LOCATION:hřiště Kocanda
DESCRIPTION;ENCODING=QUOTED-PRINTABLE:
DTSTAMP:20260425T161530Z
DTSTART:20230406T163000Z
DTEND:20230406T184000Z
SEQUENCE:0
RRULE:FREQ=WEEKLY;COUNT=8;INTERVAL=1;BYDAY=TH
EXDATE:20230420T163000Z,20230427T163000Z,20230413T163000Z
TRANSP:OPAQUE
END:VEVENT
END:VCALENDAR