BEGIN:VCALENDAR
VERSION:2.0
PRODID:-//jEvents 2.0 for Joomla//EN
CALSCALE:GREGORIAN
METHOD:PUBLISH
BEGIN:VEVENT
UID:c6192dd6b0ea5d88a7ead3587f01f78a
CATEGORIES:Futsal
CREATED:19700101T010000
SUMMARY:Okresní futsalové soutěže
LOCATION:hřiště Kocanda
DESCRIPTION;ENCODING=QUOTED-PRINTABLE:
DTSTAMP:20260425T161531Z
DTSTART:20230417T163000Z
DTEND:20230417T184000Z
SEQUENCE:0
RRULE:FREQ=WEEKLY;COUNT=7;INTERVAL=1;BYDAY=MO
EXDATE:20230403T163000Z,20230501T163000Z,20230410T163000Z,20230508T163000Z
TRANSP:OPAQUE
END:VEVENT
END:VCALENDAR