BEGIN:VCALENDAR
VERSION:2.0
PRODID:-//jEvents 2.0 for Joomla//EN
CALSCALE:GREGORIAN
METHOD:PUBLISH
BEGIN:VEVENT
UID:37c10edecfed7e9b06f27eff8c166d5a
CATEGORIES:Futsal
CREATED:19700101T010000
SUMMARY:Okresní futsalové soutěže
LOCATION:hřiště Kocanda
DESCRIPTION;ENCODING=QUOTED-PRINTABLE:
DTSTAMP:20260425T161457Z
DTSTART:20230428T163000Z
DTEND:20230428T194000Z
SEQUENCE:0
RRULE:FREQ=WEEKLY;COUNT=8;INTERVAL=1;BYDAY=FR
TRANSP:OPAQUE
END:VEVENT
END:VCALENDAR