BEGIN:VCALENDAR
VERSION:2.0
PRODID:-//jEvents 2.0 for Joomla//EN
CALSCALE:GREGORIAN
METHOD:PUBLISH
BEGIN:VEVENT
UID:3f8ee37c371c4afad412f2ea0464328a
CATEGORIES:Futsal
CREATED:20221202T143900
SUMMARY:Futsal - Krajský přebor U15,U13
LOCATION:SH Ústí n/L -Krásné Březno
DESCRIPTION;ENCODING=QUOTED-PRINTABLE:
DTSTAMP:20260426T015733Z
DTSTART:20230108T080000Z
DTEND:20230108T160000Z
SEQUENCE:0
TRANSP:OPAQUE
END:VEVENT
END:VCALENDAR