BEGIN:VCALENDAR
VERSION:2.0
PRODID:-//jEvents 2.0 for Joomla//EN
CALSCALE:GREGORIAN
METHOD:PUBLISH
BEGIN:VEVENT
UID:89871313031b90a15e61cdef6320a216
CATEGORIES:Potápění
CREATED:19700101T010000
SUMMARY:Dětský kroužek Rejnok
LOCATION:Aquapark Děčín
DESCRIPTION;ENCODING=QUOTED-PRINTABLE:
DTSTAMP:20260425T124224Z
DTSTART:20210525T150000Z
DTEND:20220628T160000Z
SEQUENCE:0
RRULE:FREQ=WEEKLY;UNTIL=20220629T000000Z;INTERVAL=1;BYDAY=TU
TRANSP:OPAQUE
END:VEVENT
END:VCALENDAR