BEGIN:VCALENDAR
VERSION:2.0
PRODID:-//jEvents 2.0 for Joomla//EN
CALSCALE:GREGORIAN
METHOD:PUBLISH
BEGIN:VEVENT
UID:0c0743b0c1097ae0c4e76cefbd2a9239
CATEGORIES:Basketbal
CREATED:20210921T080005
SUMMARY:BK ARMEX Děčín - ERA BASKETBALL NYMBURK
LOCATION:ARMEX Sportcentrum
DESCRIPTION;ENCODING=QUOTED-PRINTABLE:
DTSTAMP:20260425T204742Z
DTSTART:20210925T160000Z
DTEND:20210925T180000Z
SEQUENCE:0
TRANSP:OPAQUE
END:VEVENT
END:VCALENDAR